BEGIN:VCALENDAR
VERSION:2.0
PRODID:-//wp-events-plugin.com//7.2.3.1//EN
TZID:Australia/Sydney
X-WR-TIMEZONE:Australia/Sydney
BEGIN:VEVENT
UID:1@gracesplace.org.au
DTSTART;TZID=Australia/Sydney:20250322T180000
DTEND;TZID=Australia/Sydney:20250322T180000
DTSTAMP:20250318T020115Z
URL:https://gracesplace.org.au/events/ebony-ivory-masquerade-ball/
SUMMARY:Ebony &amp\; Ivory Masquerade Ball
DESCRIPTION:\n\n\n\n\nJoin Us for an Unforgettable Evening of Elegance and 
 Compassion at the Ebony and Ivory Ball.\n\n\n\nThe Homicide Victims' Suppo
 rt Group (Aust)&nbsp\;invites you to the 2025&nbsp\;Ebony and Ivory Ball
 —a night dedicated to hope\, remembrance\, and support. Held in the hear
 t of Sydney at the Four Seasons Hotel\, this elegant gala brings together 
 families\, compassionate community members\, generous supporters\, and par
 tners in a shared mission to uplift and empower those affected by homicide
 .This year’s event embraces the intrigue and allure of a&nbsp\;masquerad
 e theme\, so you can choose to&nbsp\;add a touch of mystery\, magic and fu
 n.\n\n\n\nDate: Saturday 22 March 2025Location: Four Seasons Hotel\, Georg
 e Street Sydney.\n\n\n\nEnjoy a night hosted by the esteemed Simon Bouda A
 M\, with dancing to the incredible sounds of Sacred Hearts with Paul Field
 .\n\n\n\nCome together for a&nbsp\;sumptuous dinner. Your ticket also incl
 udes beer\, wine\, and soft drinks\, so you can sip\, savour\, and celebra
 te in style.\n\n\n\nPlus a&nbsp\;chance to participate in our exciting cha
 rity auction and raffles.&nbsp\;\n\n\n\nEvery moment of this spectacular e
 vening celebrates the resilience of families touched by tragedy\, with all
  proceeds going directly to vital services and programs of the Homicide Vi
 ctims' Support Group\, including the groundbreaking&nbsp\;Grace’s Place
 —the world’s first residential trauma recovery facility for children a
 nd young people impacted by homicide.\n\n\n\nYour support changes lives.\n
 \n\n\nJoin us for an evening that promises to inspire and make a differenc
 e. Together\, we can offer hope\, healing\, and a brighter future.\n\n\n\n
 Book your tickets today and be part of a night where compassion and commun
 ity come together for a cause that truly matters.\n\n\n\n\ncall 8833 8400 
 to purchase tickets\n\n\n\n\n\n
ATTACH;FMTTYPE=image/jpeg:https://gracesplace.org.au/wp-content/uploads/20
 25/02/GracesPlace-Ebony-and-Ivory-Ball-Website-size-1080-x-1080-px.png
LOCATION:Four Seasons Hotel Sydney\, 199 George Street\, The Rocks\, NSW\, 
 2000\, Australia
X-APPLE-STRUCTURED-LOCATION;VALUE=URI;X-ADDRESS=199 George Street\, The Roc
 ks\, NSW\, 2000\, Australia;X-APPLE-RADIUS=100;X-TITLE=Four Seasons Hotel 
 Sydney:geo:0,0
END:VEVENT
BEGIN:VTIMEZONE
TZID:Australia/Sydney
X-LIC-LOCATION:Australia/Sydney
BEGIN:DAYLIGHT
DTSTART:20241006T030000
TZOFFSETFROM:+1000
TZOFFSETTO:+1100
TZNAME:AEDT
END:DAYLIGHT
END:VTIMEZONE
END:VCALENDAR